BEGIN:VCALENDAR
VERSION:2.0
PRODID:-//Yii2 Events//EN
BEGIN:VEVENT
UID:69e74f9a0d5cb@drustvo-muc.si.eventure.si
DTSTAMP:20260421T102114Z
DTSTART:20250920T200000
DTEND:20250920T211500
SUMMARY:Zvočna kopel z gongi 🎶 - AIA Mengeš 🌟
DESCRIPTION:Vabljeni na zvočno kopel z gongi v AIA Mengeš za globoko sprostitev in meditacijo.
LOCATION:Mladinski center AIA Mengeš\, Slovenska cesta 28\, Slovenia
URL:https://drustvo-muc.si.eventure.si/sl/event/zvocna-kopel-z-gongi-aia-menges
END:VEVENT
END:VCALENDAR
