BEGIN:VCALENDAR
VERSION:2.0
PRODID:-//Yii2 Events//EN
BEGIN:VEVENT
UID:69e6e984d3f95@drustvo-muc.si.eventure.si
DTSTAMP:20260421T030540Z
DTSTART:20250113T190000
DTEND:20250113T200000
SUMMARY:Zvočni Obred Ob Polni Luni
DESCRIPTION:
LOCATION:VRBJE\, Slovenia
URL:https://drustvo-muc.si.eventure.si/sl/event/zvo%C4%8Dni-obred-ob-polni-luni
END:VEVENT
END:VCALENDAR
