BEGIN:VCALENDAR
VERSION:2.0
PRODID:-//Yii2 Events//EN
BEGIN:VEVENT
UID:69e7786a2381c@drustvo-muc.si.eventure.si
DTSTAMP:20260421T131522Z
DTSTART:20251015T150001
DTEND:20251015T160001
SUMMARY:Zakladjedelnica - Ustvarjalno Mesto za Majhne Velike Zaklade 💎✨
DESCRIPTION:Vsako sredo v MC ustvarjamo majhne zaklade za velike namene. Pridruži se in raziskujmo kreativnost skupaj!
LOCATION:MC žalec\, Slovenia
URL:https://drustvo-muc.si.eventure.si/sl/event/zakladjedelnica-ustvarjalno-mesto-za-majhne-velike-zaklade-2
END:VEVENT
END:VCALENDAR
