BEGIN:VCALENDAR
VERSION:2.0
PRODID:-//Yii2 Events//EN
BEGIN:VEVENT
UID:69e7d3d903fbe@drustvo-muc.si.eventure.si
DTSTAMP:20260421T194529Z
DTSTART:20251126T150000
DTEND:20251126T160000
SUMMARY:Zakladjedelnica - Ustvarjalno Mesto za Majhne in Velike Zaklade 💎✨
DESCRIPTION:Dobrodošli v Zakladjedelnico\, ustvarjalno mesto za vse starosti vsako sredo v MC\, kjer ustvarjamo majhne zaklade za velike namene.
LOCATION:MC žalec\, Slovenia
URL:https://drustvo-muc.si.eventure.si/sl/event/zakladjedelnica-ustvarjalno-mesto-za-majhne-in-velike-zaklade
END:VEVENT
END:VCALENDAR
