BEGIN:VCALENDAR
VERSION:2.0
PRODID:-//Yii2 Events//EN
BEGIN:VEVENT
UID:69e7d04a24f34@drustvo-muc.si.eventure.si
DTSTAMP:20260421T193018Z
DTSTART:20260319T180000
DTEND:20260319T190000
SUMMARY:Zakladjedelnica - Ustvarjalno Mesto za Majhne in Velike Zaklade 💎✨
DESCRIPTION:Dobrodošli v Zakladjedelnico\, ustvarjalno mesto za vse starosti ustvarjamo majhne zaklade za velike namene. stvari\, ki si jih sami naredite bodo imele vrednost
LOCATION:MC žalec\, Slovenia
URL:https://drustvo-muc.si.eventure.si/sl/event/zakladjedelnica-ustvarjalno-mesto-za-majhne-in-velike-zaklade-4
END:VEVENT
END:VCALENDAR
