BEGIN:VCALENDAR
VERSION:2.0
PRODID:-//Yii2 Events//EN
BEGIN:VEVENT
UID:69e6db5156b58@drustvo-muc.si.eventure.si
DTSTAMP:20260421T020505Z
DTSTART:20250424T190000
DTEND:20250424T203000
SUMMARY:Ven iz okvirov - Srčna gong kopel Kromberk
DESCRIPTION:Doživi Srčno Gong Kopel "Ven iz okvirov" – zvočno popotovanje za osvoboditev misli\, globoko sprostitev in prebujanje notranjega miru. Pridruži se Mireli in Boštjanu na čarobnem večeru transformacije skozi zvok.
LOCATION:KS KROMBERK\, Ulica Vinka Vodopivca 90\, Kromberk\, Slovenia
URL:https://drustvo-muc.si.eventure.si/sl/event/ven-iz-okvirov-srcna-gong-kopel-kromberk
END:VEVENT
END:VCALENDAR
