BEGIN:VCALENDAR
VERSION:2.0
PRODID:-//Yii2 Events//EN
BEGIN:VEVENT
UID:69e7116402be5@drustvo-muc.si.eventure.si
DTSTAMP:20260421T055548Z
DTSTART:20250426T100000
DTEND:20250426T150000
SUMMARY:V zdravilnem objemu gozda- doživetje gozdne medicine
DESCRIPTION:Doživi zdravilni objem gozda skozi program gozdne medicine: spoznaj zdravilne in strupene rastline\, rastlinske signature\, vaje za stik z naravo in izdelaj aromaterapevtski pripravek. Prijave obvezne – mesta so omejena!
LOCATION:Vilalavanda Lokavec\, Lokavec 202d\,Ajdovščina\, Slovenia
URL:https://drustvo-muc.si.eventure.si/sl/event/v-zdravilnem-objemu-gozda-dozivetje-gozdne-medicine
END:VEVENT
END:VCALENDAR
