BEGIN:VCALENDAR
VERSION:2.0
PRODID:-//Yii2 Events//EN
BEGIN:VEVENT
UID:69e6db4cef760@drustvo-muc.si.eventure.si
DTSTAMP:20260421T020500Z
DTSTART:20250516T190000
DTEND:20250516T203000
SUMMARY:V polnem razcvetu - Srčna Gong Kopel TOLMIN
DESCRIPTION:Izkušnja zvočne kopeli "V polnem razcvetu" v Tolminu ponuja globoko sprostitev\, osvoboditev omejitev in priložnost za osebno rast. Uživajte v zdravilnih vibracijah gongov in tibetanskih posod ter odkrijte svojo notranjo svobodo. Pridružite se nam na potovanju samorazumevanja in ljubezni do sebe!
LOCATION:Tornijeva dvorana\, KS Tolmin\, Rutarjeva ulica 5\, Slovenia
URL:https://drustvo-muc.si.eventure.si/sl/event/v-polnem-razcvetu-srcna-gong-kopel-tolmin
END:VEVENT
END:VCALENDAR
