BEGIN:VCALENDAR
VERSION:2.0
PRODID:-//Yii2 Events//EN
BEGIN:VEVENT
UID:69e79d2b96e89@drustvo-muc.si.eventure.si
DTSTAMP:20260421T155211Z
DTSTART:20250511T100000
DTEND:20250511T110000
SUMMARY:ŠTUDIJ RITMA na afriških bobnih
DESCRIPTION:Trening ritma - konkreten - razumevanje plus vaje.
LOCATION:Vrhnika\, Slovenia
URL:https://drustvo-muc.si.eventure.si/sl/event/tudij-ritma-na-afri-kih-bobnih
END:VEVENT
END:VCALENDAR
