BEGIN:VCALENDAR
VERSION:2.0
PRODID:-//Yii2 Events//EN
BEGIN:VEVENT
UID:69e780678a68a@drustvo-muc.si.eventure.si
DTSTAMP:20260421T134927Z
DTSTART:20251026T140000
DTEND:20251026T203000
SUMMARY:Tempelj - kundalini
DESCRIPTION:Pridruži se nam v Tempelju na edinstvenem doživetju Kundalini\, ki prebuja tvojo življenjsko energijo in povezuje telo ter duha.
LOCATION:Studio Eviana\, Trzin\, Špruha 19\, Slovenia
URL:https://drustvo-muc.si.eventure.si/sl/event/tempelj-kundalini
END:VEVENT
END:VCALENDAR
