BEGIN:VCALENDAR
VERSION:2.0
PRODID:-//Yii2 Events//EN
BEGIN:VEVENT
UID:69e78728acee6@drustvo-muc.si.eventure.si
DTSTAMP:20260421T141816Z
DTSTART:20251024T190000
DTEND:20251024T193000
SUMMARY:Taoistična masaža prsi
DESCRIPTION:Izkušajte pomirjujoče koristi taoistične masaže prsi za sprostitev\, izboljšanje prekrvavitve in izboljšanje počutja.
LOCATION:Spletni dogodek
URL:https://drustvo-muc.si.eventure.si/sl/event/taoisticna-masaza-prsi-2
END:VEVENT
END:VCALENDAR
