BEGIN:VCALENDAR
VERSION:2.0
PRODID:-//Yii2 Events//EN
BEGIN:VEVENT
UID:69e7dfe956ebc@drustvo-muc.si.eventure.si
DTSTAMP:20260421T203657Z
DTSTART:20241124T100000
DTEND:20241124T110000
SUMMARY:ŠTUDIJ RITMA na afriških bobnih
DESCRIPTION:
LOCATION:Vrhnika Orfej\, Slovenia
URL:https://drustvo-muc.si.eventure.si/sl/event/studij-ritma-na-afriskih-bobnih
END:VEVENT
END:VCALENDAR
