BEGIN:VCALENDAR
VERSION:2.0
PRODID:-//Yii2 Events//EN
BEGIN:VEVENT
UID:69e6db5171df4@drustvo-muc.si.eventure.si
DTSTAMP:20260421T020505Z
DTSTART:20250112T170000
DTEND:20250112T200000
SUMMARY:Srčni Gong Rebirthing Ljubljana
DESCRIPTION:Srčni Gong Rebirthing Maja in Boštjan te vabita na transformacijsko delavnico Srčni gong Rebirthing. Združili smo moči in dodali zavestnemu dihu (rebirthing) še podporo z gongi\, šamanskimi bobni in drugimi holističnimi instrumenti. Delavnica pomaga sprostiti blokade\, izboljšati energijsko pretočnost in doseči globlji stik s sabo. Delavnica traja 3h.
LOCATION:Hruševska cesta 74\, Slovenia
URL:https://drustvo-muc.si.eventure.si/sl/event/srcni-gong-rebirthing-ljubljana
END:VEVENT
END:VCALENDAR
