BEGIN:VCALENDAR
VERSION:2.0
PRODID:-//Yii2 Events//EN
BEGIN:VEVENT
UID:69e70b2da7d4d@drustvo-muc.si.eventure.si
DTSTAMP:20260421T052917Z
DTSTART:20250304T180000
DTEND:20250304T193000
SUMMARY:Srčna Gong Kopel - ŽIRI
DESCRIPTION:Vabljeni na zvočno kopel v Sevilla center\, ki bo potekala 4.marca ob 18. uri. Gre za sprostitveno izkušnjo\, kjer udeleženci uživajo v zvočnih vibracijah različnih instrumentov\, kar pripomore k zmanjšanju stresa\, izboljšanju koncentracije in spodbujanju zdravja. Zvočna kopel traja 1\,5 ure in je zasnovana tako\, da vsak udeleženec prejme tisto\, kar v tistem trenutku najbolj potrebuje. Boštjan Sanič\, mojster zvoka\, vodi seanse\, ki omogočajo globoko sprostitev in notranjo harmonijo. Zvočna kopel...
LOCATION:Sevilla center\, Strojarska ulica 16\, Slovenia
URL:https://drustvo-muc.si.eventure.si/sl/event/srcna-gong-kopel-ziri
END:VEVENT
END:VCALENDAR
