BEGIN:VCALENDAR
VERSION:2.0
PRODID:-//Yii2 Events//EN
BEGIN:VEVENT
UID:69e6f2c6a434a@drustvo-muc.si.eventure.si
DTSTAMP:20260421T034510Z
DTSTART:20250723T190000
DTEND:20250723T203000
SUMMARY:Srčna gong kopel v naravi KROMBERK 
DESCRIPTION:Pridružite se srčni gong kopeli v naravi na Kromberškem gradu. Povezovanje z elementarnimi bitji 23. julija.
LOCATION:v središču parka za gradom\, Grajska cesta 1\, Kromberk\, Slovenia
URL:https://drustvo-muc.si.eventure.si/sl/event/srcna-gong-kopel-v-naravi-kromberk
END:VEVENT
END:VCALENDAR
