BEGIN:VCALENDAR
VERSION:2.0
PRODID:-//Yii2 Events//EN
BEGIN:VEVENT
UID:69e6dbf104173@drustvo-muc.si.eventure.si
DTSTAMP:20260421T020745Z
DTSTART:20250226T200000
DTEND:20250226T213000
SUMMARY:Srčna Gong kopel - Prisotnost LJUBLJANA
DESCRIPTION:Namero tega meseca smo postavili v Prisotnost. Biti prisoten pomeni biti tukaj in zdaj – popolnoma v trenutku\, v stiku s seboj in svojim srcem. Ko se umirimo in zavestno usmerimo svojo pozornost navznoter\, se odpre prostor za globoko notranjo povezanost\, jasnost in sprejemanje. Zvok gonga in vibracije drugih instrumentov te bodo podprli pri poglabljanju prisotnosti\, sprostitvi uma ter uravnovešanju telesa in duha. Dovoli si biti\, čutiti in preprosto sprejemati ta trenutek\, takšen kot je.
LOCATION:Višja Vibracija\, Ljubljana\, Ulica Andreja Bitenca 68\, Slovenia
URL:https://drustvo-muc.si.eventure.si/sl/event/srcna-gong-kopel-prisotnost-ljubljana
END:VEVENT
END:VCALENDAR
