BEGIN:VCALENDAR
VERSION:2.0
PRODID:-//Yii2 Events//EN
BEGIN:VEVENT
UID:69e6f0b7b4768@drustvo-muc.si.eventure.si
DTSTAMP:20260421T033623Z
DTSTART:20251212T170000
DTEND:20251212T200000
SUMMARY:Srčna gong kopel CELJE
DESCRIPTION:Pridružite se Srčni gong kopeli v Celju\, da skupaj praznujemo konec leta\, se povežemo v skupnosti in doživimo zvočno zdravljenje.
LOCATION:knežji dvorec - Barbarina dvorana\, Trg celjskih knezov 8\, Slovenia
URL:https://drustvo-muc.si.eventure.si/sl/event/srcna-gong-kopel-celje
END:VEVENT
END:VCALENDAR
