BEGIN:VCALENDAR
VERSION:2.0
PRODID:-//Yii2 Events//EN
BEGIN:VEVENT
UID:69e7106fd61c5@drustvo-muc.si.eventure.si
DTSTAMP:20260421T055143Z
DTSTART:20250315T100000
DTEND:20250315T150000
SUMMARY:Spoznavanje in izdelava run
DESCRIPTION:
LOCATION:Lokavec \, Slovenia
URL:https://drustvo-muc.si.eventure.si/sl/event/spoznavanje-in-izdelava-run-2
END:VEVENT
END:VCALENDAR
