BEGIN:VCALENDAR
VERSION:2.0
PRODID:-//Yii2 Events//EN
BEGIN:VEVENT
UID:69e79fdb1fdaf@drustvo-muc.si.eventure.si
DTSTAMP:20260421T160339Z
DTSTART:20250620T160000
DTEND:20250621T235900
SUMMARY:SOLSTICIJ 2025
DESCRIPTION:Praznovanje poletnega solsticija z bobnarskimi krogi\, celonočno glasbo in tradicionalno hojo po žerjavici.
LOCATION:Radovljica\, Slovenia
URL:https://drustvo-muc.si.eventure.si/sl/event/solsticij-2025
END:VEVENT
END:VCALENDAR
