BEGIN:VCALENDAR
VERSION:2.0
PRODID:-//Yii2 Events//EN
BEGIN:VEVENT
UID:69e7ca807b76a@drustvo-muc.si.eventure.si
DTSTAMP:20260421T190536Z
DTSTART:20241227T190000
DTEND:20241227T200000
SUMMARY:Shamanika Kreativa
DESCRIPTION:
LOCATION:iZbor Trenutka\, Orfej Vrhnika\, Slovenia
URL:https://drustvo-muc.si.eventure.si/sl/event/shamanika-kreativa-2
END:VEVENT
END:VCALENDAR
