BEGIN:VCALENDAR
VERSION:2.0
PRODID:-//Yii2 Events//EN
BEGIN:VEVENT
UID:69e6ea1a9f7cc@drustvo-muc.si.eventure.si
DTSTAMP:20260421T030810Z
DTSTART:20250805T180000
DTEND:20250805T190000
SUMMARY:🎶 Redna Brezplačna bobnarska delavnica in krog 🥁
DESCRIPTION:Pridružite se brezplačni bobnarski delavnici in krogu\, kjer boste raziskovali ritme in izboljšali svoje sposobnosti. Vsi nivoji so dobrodošli!
LOCATION:MC Hotel Žalec\, Slovenia
URL:https://drustvo-muc.si.eventure.si/sl/event/redna-brezplacna-bobnarska-delavnica-in-krog-3
END:VEVENT
END:VCALENDAR
