BEGIN:VCALENDAR
VERSION:2.0
PRODID:-//Yii2 Events//EN
BEGIN:VEVENT
UID:69e7b79f6daa9@drustvo-muc.si.eventure.si
DTSTAMP:20260421T174503Z
DTSTART:20260113T180024
DTEND:20260113T190024
SUMMARY:🎶 Redna Brezplačna bobnarska delavnica in krog 🥁
DESCRIPTION:Pridružite se brezplačni bobnarski delavnici\, naučite se igrati različne ritme na afriških bobnih. Vsi so dobrodošli. Urimo ritmični posluh in koordinaccijo\, ..
LOCATION:MC Hotel Žalec\, Slovenia
URL:https://drustvo-muc.si.eventure.si/sl/event/redna-brezplacna-bobnarska-delavnica-in-krog-17
END:VEVENT
END:VCALENDAR
