BEGIN:VCALENDAR
VERSION:2.0
PRODID:-//Yii2 Events//EN
BEGIN:VEVENT
UID:69e7b922b90f7@drustvo-muc.si.eventure.si
DTSTAMP:20260421T175130Z
DTSTART:20260106T180000
DTEND:20260106T190000
SUMMARY:🎶 Redna Brezplačna bobnarska delavnica in krog 🥁
DESCRIPTION:Pridružite se brezplačni bobnarski delavnici\, naučite se igrati različne ritme na afriških bobnih. Vsi so dobrodošli. Urimo ritmični posluh in koordinaccijo\, ..
LOCATION:MC Hotel Žalec\, Slovenia
URL:https://drustvo-muc.si.eventure.si/sl/event/redna-brezplacna-bobnarska-delavnica-in-krog-15
END:VEVENT
END:VCALENDAR
