BEGIN:VCALENDAR
VERSION:2.0
PRODID:-//Yii2 Events//EN
BEGIN:VEVENT
UID:69e7b712076f1@drustvo-muc.si.eventure.si
DTSTAMP:20260421T174242Z
DTSTART:20251208T180048
DTEND:20251208T190048
SUMMARY:🎶 Redna Brezplačna bobnarska delavnica in krog 🥁
DESCRIPTION:Pridružite se naši brezplačni bobnarski delavnici in naučite se igrati različne ritme na afriških bobnih. Vsi so dobrodošli.
LOCATION:MC Hotel Žalec\, Slovenia
URL:https://drustvo-muc.si.eventure.si/sl/event/redna-brezplacna-bobnarska-delavnica-in-krog-11
END:VEVENT
END:VCALENDAR
