BEGIN:VCALENDAR
VERSION:2.0
PRODID:-//Yii2 Events//EN
BEGIN:VEVENT
UID:69e7a37b1aa23@drustvo-muc.si.eventure.si
DTSTAMP:20260421T161907Z
DTSTART:20250617T180000
DTEND:20250617T190000
SUMMARY:Redna brezplačna bobnarska delavnica
DESCRIPTION:Pridruži se brezplačni bobnarski delavnici\, ki jo vodi Žiga\, osredotočena na ritem in skupinsko igranje. Uživaj v sprostitvi in muziciranju.
LOCATION:MC Hotel Žalec\, Slovenia
URL:https://drustvo-muc.si.eventure.si/sl/event/redna-brezplacna-bobnarska-delavnica-6
END:VEVENT
END:VCALENDAR
