BEGIN:VCALENDAR
VERSION:2.0
PRODID:-//Yii2 Events//EN
BEGIN:VEVENT
UID:69e788ebb684f@drustvo-muc.si.eventure.si
DTSTAMP:20260421T142547Z
DTSTART:20250520T180000
DTEND:20250520T190000
SUMMARY:Redna brezplačna bobnarska delavnica
DESCRIPTION:Pridružite se brezplačni bobnarski delavnici pod vodstvom Žige in raziskujte ritem skozi skupinsko igranje tolkal. Vse stopnje veščin dobrodošle.
LOCATION:MC Hotel Žalec\, Slovenia
URL:https://drustvo-muc.si.eventure.si/sl/event/redna-brezplacna-bobnarska-delavnica-5
END:VEVENT
END:VCALENDAR
