BEGIN:VCALENDAR
VERSION:2.0
PRODID:-//Yii2 Events//EN
BEGIN:VEVENT
UID:69e7a0d9bed63@drustvo-muc.si.eventure.si
DTSTAMP:20260421T160753Z
DTSTART:20250506T180000
DTEND:20250506T190000
SUMMARY:Redna brezplačna bobnarska delavnica
DESCRIPTION:Pridružite se naši redni brezplačni bobnarski delavnici\, da raziščete ritme in izboljšate svoje bobnarske spretnosti. Vse ravni so dobrodošle!
LOCATION:MC Hotel Žalec\, Slovenia
URL:https://drustvo-muc.si.eventure.si/sl/event/redna-brezplacna-bobnarska-delavnica-4
END:VEVENT
END:VCALENDAR
