BEGIN:VCALENDAR
VERSION:2.0
PRODID:-//Yii2 Events//EN
BEGIN:VEVENT
UID:69e79b5f2e4f4@drustvo-muc.si.eventure.si
DTSTAMP:20260421T154431Z
DTSTART:20250822T090000
DTEND:20250824T150000
SUMMARY:✨ REBIRTHING ODDIH ✨
DESCRIPTION:Pridružite se nam na transformativnem Rebirthing oddihu v naravi od 18. do 20. julija blizu Radovljice. Doživite globoko samoevalvacijo in zdravljenje.
LOCATION:Radovljica\, Slovenia
URL:https://drustvo-muc.si.eventure.si/sl/event/rebirthing-oddih-2
END:VEVENT
END:VCALENDAR
