BEGIN:VCALENDAR
VERSION:2.0
PRODID:-//Yii2 Events//EN
BEGIN:VEVENT
UID:69e7cad3384fa@drustvo-muc.si.eventure.si
DTSTAMP:20260421T190659Z
DTSTART:20241222T180000
DTEND:20241222T190000
SUMMARY:RAZ-GIBANICA in VRACH live
DESCRIPTION:
LOCATION:MC Žalec\, Slovenia
URL:https://drustvo-muc.si.eventure.si/sl/event/raz-gibanica-in-vrach-live
END:VEVENT
END:VCALENDAR
