BEGIN:VCALENDAR
VERSION:2.0
PRODID:-//Yii2 Events//EN
BEGIN:VEVENT
UID:69e70f6b163dd@drustvo-muc.si.eventure.si
DTSTAMP:20260421T054723Z
DTSTART:20251020T200000
DTEND:20251020T213000
SUMMARY:Predavanje 𝗦𝗸𝗿𝗶𝘃𝗻𝗼𝘀𝘁𝗻𝗮 𝗿𝗱𝗲𝗰̌𝗮 𝗺𝘂𝘀̌𝗻𝗶𝗰𝗮
DESCRIPTION:
LOCATION:Spletni dogodek
URL:https://drustvo-muc.si.eventure.si/sl/event/predavanje
END:VEVENT
END:VCALENDAR
