BEGIN:VCALENDAR
VERSION:2.0
PRODID:-//Yii2 Events//EN
BEGIN:VEVENT
UID:69e7c6cc13e31@drustvo-muc.si.eventure.si
DTSTAMP:20260421T184948Z
DTSTART:20260118T180013
DTEND:20260118T190013
SUMMARY:🌕 Prazna Luna 🌕
DESCRIPTION:Pridruži se našim polnolunarnim praznovanjem za sprostitev v nov lunin cikel s ritmom\, pesmijo in povezovanjem z ognjem.
LOCATION:Vrbje\, Slovenia
URL:https://drustvo-muc.si.eventure.si/sl/event/prazna-luna
END:VEVENT
END:VCALENDAR
