BEGIN:VCALENDAR
VERSION:2.0
PRODID:-//Yii2 Events//EN
BEGIN:VEVENT
UID:69e7b92287bdf@drustvo-muc.si.eventure.si
DTSTAMP:20260421T175130Z
DTSTART:20260125T100000
DTEND:20260125T110000
SUMMARY:Potovanje "ODPIRANJA NOTRANJIH VRAT -  POGLOBLJENO DELO S SEBOJ"
DESCRIPTION:Pridruži se nam 25. januarja na 8-mesečnem potovanju za odpiranje notranjih vrat s delom na sebi in energijskimi tehnikami.
LOCATION:Cankarjeva 9\, Ljubljana\, Slovenia
URL:https://drustvo-muc.si.eventure.si/sl/event/potovanje-odpiranja-notranjih-vrat-poglobljeno-delo-s-seboj
END:VEVENT
END:VCALENDAR
