BEGIN:VCALENDAR
VERSION:2.0
PRODID:-//Yii2 Events//EN
BEGIN:VEVENT
UID:69e77bf42a15f@drustvo-muc.si.eventure.si
DTSTAMP:20260421T133028Z
DTSTART:20250809T200000
DTEND:20250809T210000
SUMMARY:🌕 POLNA LUNA 🌕 in obredno petje svetih pesmi - SHAMANIKA KREATIVA
DESCRIPTION:Pridružite se našemu praznovanju polne lune za sprostitev\, izražanje in obredno petje v podporni atmosferi. Vsako zimo ob 19. uri\, poleti ob 20. uri.
LOCATION:Vrbje\, Slovenia
URL:https://drustvo-muc.si.eventure.si/sl/event/polna-luna-in-obredno-petje-svetih-pesmi-shamanika-kreativa
END:VEVENT
END:VCALENDAR
