BEGIN:VCALENDAR
VERSION:2.0
PRODID:-//Yii2 Events//EN
BEGIN:VEVENT
UID:69e7bcb622355@drustvo-muc.si.eventure.si
DTSTAMP:20260421T180646Z
DTSTART:20250907T190000
DTEND:20250907T200000
SUMMARY:🌕 POLNA LUNA 🌕 in obredno petje svetih pesmi - SHAMANIKA KREATIVA
DESCRIPTION:Pridruži se nam pri polnolunarnem praznovanju in obrednem petju. Sprosti se in poveži z novim lunarnih ciklom.
LOCATION:Vrbje\, Slovenia
URL:https://drustvo-muc.si.eventure.si/sl/event/polna-luna-in-obredno-petje-svetih-pesmi-shamanika-kreativa-2
END:VEVENT
END:VCALENDAR
