BEGIN:VCALENDAR
VERSION:2.0
PRODID:-//Yii2 Events//EN
BEGIN:VEVENT
UID:69e7c9ba42968@drustvo-muc.si.eventure.si
DTSTAMP:20260421T190218Z
DTSTART:20241201T160000
DTEND:20241201T170000
SUMMARY:PLES ŽIVLJENJA
DESCRIPTION:
LOCATION:Slovenia
URL:https://drustvo-muc.si.eventure.si/sl/event/ples-zivljenja
END:VEVENT
END:VCALENDAR
