BEGIN:VCALENDAR
VERSION:2.0
PRODID:-//Yii2 Events//EN
BEGIN:VEVENT
UID:69e70898d3212@drustvo-muc.si.eventure.si
DTSTAMP:20260421T051816Z
DTSTART:20250430T070000
DTEND:20250430T090000
SUMMARY:O meni
DESCRIPTION:Boštjan Sanič je vizionar in mojster zvoka\, ki z transformativnimi zvočnimi kopelami\, intuitivno glasbo in energijskimi masažami združuje ljudi v duhu ljubezni
LOCATION:Jxjjxfjjf\, Lhahyhxj\, Slovenia
URL:https://drustvo-muc.si.eventure.si/sl/event/o-meni
END:VEVENT
END:VCALENDAR
