BEGIN:VCALENDAR
VERSION:2.0
PRODID:-//Yii2 Events//EN
BEGIN:VEVENT
UID:69e7bc5e2e15c@drustvo-muc.si.eventure.si
DTSTAMP:20260421T180518Z
DTSTART:20251122T100000
DTEND:20251122T130000
SUMMARY:Notranja MOČ & JEZA - somatska delavnica za ženske
DESCRIPTION:Pridruži se delavnici za ženske 22. novembra v Radomljah. Odkrij svojo jezo in jo transformiraj v moč in strast.
LOCATION:Radomlje\, Prostor Shakti\, Slovenia
URL:https://drustvo-muc.si.eventure.si/sl/event/notranja-moc-jeza-somatska-delavnica-za-zenske
END:VEVENT
END:VCALENDAR
