BEGIN:VCALENDAR
VERSION:2.0
PRODID:-//Yii2 Events//EN
BEGIN:VEVENT
UID:69e6da0010205@drustvo-muc.si.eventure.si
DTSTAMP:20260421T015928Z
DTSTART:20251113T190000
DTEND:20251113T210000
SUMMARY:New Dimension Dating
DESCRIPTION:Pridruži se New Dimension Dating za edinstveno izkušnjo\, ki združuje sodobno zmenkanje s starošolskim šarmom. Spoznaj nove ljudi v sproščenem okolju.
LOCATION:Ljubljana\, Slovenia
URL:https://drustvo-muc.si.eventure.si/sl/event/new-dimension-dating
END:VEVENT
END:VCALENDAR
