BEGIN:VCALENDAR
VERSION:2.0
PRODID:-//Yii2 Events//EN
BEGIN:VEVENT
UID:69e7557385be1@drustvo-muc.si.eventure.si
DTSTAMP:20260421T104611Z
DTSTART:20250316T160000
DTEND:20250316T170000
SUMMARY:Melodija Narave - Kamnik
DESCRIPTION:Dragi ljubitelji glasbe in narave\, vabim vas na posebno delavnico igranja na Hummingbird Flutes – flavte v slogu severnoameriških staroselcev.
LOCATION:Slovenia
URL:https://drustvo-muc.si.eventure.si/sl/event/melodija-narave-kamnik
END:VEVENT
END:VCALENDAR
