BEGIN:VCALENDAR
VERSION:2.0
PRODID:-//Yii2 Events//EN
BEGIN:VEVENT
UID:69e77610e8670@drustvo-muc.si.eventure.si
DTSTAMP:20260421T130520Z
DTSTART:20250821T180055
DTEND:20250821T190055
SUMMARY:MADRE SELVA SHAMANIKA 🎶🌿✨
DESCRIPTION:Doživite dogodek Madre Selva Shamanika\, potovanje skozi notranji gozd zavesti z naravnimi zvoki in glasbo za globoko sprostitev in praznovanje.
LOCATION:Bližina Radovljice\, Slovenia
URL:https://drustvo-muc.si.eventure.si/sl/event/madre-selva-shamanika-2
END:VEVENT
END:VCALENDAR
