BEGIN:VCALENDAR
VERSION:2.0
PRODID:-//Yii2 Events//EN
BEGIN:VEVENT
UID:69e7a11c69809@drustvo-muc.si.eventure.si
DTSTAMP:20260421T160900Z
DTSTART:20250430T190000
DTEND:20250430T200000
SUMMARY:KROG LJUDI\, RITMA IN ZVOKA OB OGNJU za 1.maj
DESCRIPTION:Praznovanje ob ognju s krogom ljudi\, ritma in zvoka.
LOCATION:Vrbje – Žalec\, Slovenia
URL:https://drustvo-muc.si.eventure.si/sl/event/krog-ljudi-ritma-in-zvoka-ob-ognju-za-1-maj
END:VEVENT
END:VCALENDAR
