BEGIN:VCALENDAR
VERSION:2.0
PRODID:-//Yii2 Events//EN
BEGIN:VEVENT
UID:69e6f5c7d65db@drustvo-muc.si.eventure.si
DTSTAMP:20260421T035759Z
DTSTART:20250620T200000
DTEND:20250620T213000
SUMMARY:Klic duše - Srčna Gong Kopel LJUBLJANA
DESCRIPTION:Pridruži se srčni gong kopeli "Klic duše" in odkrij notranjo naravo. Globoka sprostitev\, povezava s srcem in energija poletja te že čaka!
LOCATION:Višja Vibracija\,  Ljubljana\, Ulica Andreja Bitenca 68\, Slovenia
URL:https://drustvo-muc.si.eventure.si/sl/event/klic-duse-srcna-gong-kopel-ljubljana-2
END:VEVENT
END:VCALENDAR
