BEGIN:VCALENDAR
VERSION:2.0
PRODID:-//Yii2 Events//EN
BEGIN:VEVENT
UID:69e78c75d136d@drustvo-muc.si.eventure.si
DTSTAMP:20260421T144053Z
DTSTART:20250824T190000
DTEND:20250824T200000
SUMMARY:KIRTAN - Skupinsko petje mantr 🎶✨
DESCRIPTION:Pridruži se nam na Kirtanu s skupinskim petjem manter in odkrij glas in srce. Dušna povezava preko zvokov in vibracij.
LOCATION:Ljubljana\,\, Slovenia
URL:https://drustvo-muc.si.eventure.si/sl/event/kirtan-skupinsko-petje-mantr-2
END:VEVENT
END:VCALENDAR
