BEGIN:VCALENDAR
VERSION:2.0
PRODID:-//Yii2 Events//EN
BEGIN:VEVENT
UID:69e7bcc9adf51@drustvo-muc.si.eventure.si
DTSTAMP:20260421T180705Z
DTSTART:20250111T100000
DTEND:20250111T110000
SUMMARY:📅 Januarsko mesečno online srečanje 2025 🎉
DESCRIPTION:Pridružite se nam na januarskem mesečnem online srečanju Lada Center\, ki bo 11. januarja 2025. Povežite se z drugimi člani\, izmenjajte ideje in postavite vprašanja. Ne zamudite te priložnosti!
LOCATION:Slovenia
URL:https://drustvo-muc.si.eventure.si/sl/event/januarsko-mesecno-online-srecanje-2025
END:VEVENT
END:VCALENDAR
