BEGIN:VCALENDAR
VERSION:2.0
PRODID:-//Yii2 Events//EN
BEGIN:VEVENT
UID:69e7847d5ad4e@drustvo-muc.si.eventure.si
DTSTAMP:20260421T140653Z
DTSTART:20251224T180000
DTEND:20251224T193000
SUMMARY:Heart puja\, čaščenje srca
DESCRIPTION:Pridružite se nam na Heart Puji\, ritualu\, namenjenem čaščenju srca\, negovanju ljubezni in sočutja v naši skupnosti.
LOCATION:Višja vibracija\, Cesta Andreja Bitenca 68\, Ljubljana\, Slovenia
URL:https://drustvo-muc.si.eventure.si/sl/event/heart-puja-cascenje-srca-6
END:VEVENT
END:VCALENDAR
