BEGIN:VCALENDAR
VERSION:2.0
PRODID:-//Yii2 Events//EN
BEGIN:VEVENT
UID:69e70b185d809@drustvo-muc.si.eventure.si
DTSTAMP:20260421T052856Z
DTSTART:20250131T170000
DTEND:20250131T200000
SUMMARY:Gozdna medicina 
DESCRIPTION:Gozdna medicina\, pomen gozda za naše zdravje\, zdravilnost dreves\, izdelava pilinga in dišečih\, kadilnih palčk iz gozdnih esenc.
LOCATION:Lokavec \, Lokavec 202d\, Slovenia
URL:https://drustvo-muc.si.eventure.si/sl/event/gozdna-medicina
END:VEVENT
END:VCALENDAR
