BEGIN:VCALENDAR
VERSION:2.0
PRODID:-//Yii2 Events//EN
BEGIN:VEVENT
UID:69e79c37af1fa@drustvo-muc.si.eventure.si
DTSTAMP:20260421T154807Z
DTSTART:20250205T180000
DTEND:20250205T190000
SUMMARY:Dramilo - Skupinske Postavitve Razrešitve
DESCRIPTION:
LOCATION:Trzin\, Gasilski dom\, Slovenia
URL:https://drustvo-muc.si.eventure.si/sl/event/dramilo-skupinske-postavitve-razre-itve
END:VEVENT
END:VCALENDAR
