BEGIN:VCALENDAR
VERSION:2.0
PRODID:-//Yii2 Events//EN
BEGIN:VEVENT
UID:69e700fa0cf81@drustvo-muc.si.eventure.si
DTSTAMP:20260421T044546Z
DTSTART:20260128T180051
DTEND:20260128T190051
SUMMARY:✨ DRAMILO ✨
DESCRIPTION:Pridružite se DRAMILU\, delavnici\, ki raziskuje življenjske izzive skozi žive postavitve. Izkušnje ustvarjalnosti\, biti navdahnjen in povezovanja!
LOCATION:Črnuče\, Trzin\, gasilski dom nov\, Slovenia
URL:https://drustvo-muc.si.eventure.si/sl/event/dramilo-6
END:VEVENT
END:VCALENDAR
