BEGIN:VCALENDAR
VERSION:2.0
PRODID:-//Yii2 Events//EN
BEGIN:VEVENT
UID:69e6e889066f2@drustvo-muc.si.eventure.si
DTSTAMP:20260421T030129Z
DTSTART:20251022T180000
DTEND:20251022T190000
SUMMARY:✨ DRAMILO ✨
DESCRIPTION:Pridružite se DRAMILU\, delavnici\, ki raziskuje življenjske izzive skozi improvizirano dramo. Izkušnje ustvarjalnosti in povezovanja!
LOCATION:Črnuče\, Ljubljana ob Savi\, Slovenia
URL:https://drustvo-muc.si.eventure.si/sl/event/dramilo-3
END:VEVENT
END:VCALENDAR
