BEGIN:VCALENDAR
VERSION:2.0
PRODID:-//Yii2 Events//EN
BEGIN:VEVENT
UID:69e79b5bbbbfb@drustvo-muc.si.eventure.si
DTSTAMP:20260421T154427Z
DTSTART:20250706T090000
DTEND:20250706T100000
SUMMARY:Dan Corenina 😊
DESCRIPTION:Pridružite se nam na Dnevu Corenina\, praznovanju polnem veselja\, glasbe in skupnostnega duha. Ne zamudite te živahne prireditve!
LOCATION:Ni navedene lokacije\, Slovenia
URL:https://drustvo-muc.si.eventure.si/sl/event/dan-corenina
END:VEVENT
END:VCALENDAR
